BEGIN:VCALENDAR
VERSION:2.0
PRODID:-//Maria Schutz - ECPv6.15.20//NONSGML v1.0//EN
CALSCALE:GREGORIAN
METHOD:PUBLISH
X-WR-CALNAME:Maria Schutz
X-ORIGINAL-URL:https://mariaschutz.at
X-WR-CALDESC:Veranstaltungen für Maria Schutz
REFRESH-INTERVAL;VALUE=DURATION:PT1H
X-Robots-Tag:noindex
X-PUBLISHED-TTL:PT1H
BEGIN:VTIMEZONE
TZID:Europe/Berlin
BEGIN:DAYLIGHT
TZOFFSETFROM:+0100
TZOFFSETTO:+0200
TZNAME:CEST
DTSTART:20210328T010000
END:DAYLIGHT
BEGIN:STANDARD
TZOFFSETFROM:+0200
TZOFFSETTO:+0100
TZNAME:CET
DTSTART:20211031T010000
END:STANDARD
BEGIN:DAYLIGHT
TZOFFSETFROM:+0100
TZOFFSETTO:+0200
TZNAME:CEST
DTSTART:20220327T010000
END:DAYLIGHT
BEGIN:STANDARD
TZOFFSETFROM:+0200
TZOFFSETTO:+0100
TZNAME:CET
DTSTART:20221030T010000
END:STANDARD
BEGIN:DAYLIGHT
TZOFFSETFROM:+0100
TZOFFSETTO:+0200
TZNAME:CEST
DTSTART:20230326T010000
END:DAYLIGHT
BEGIN:STANDARD
TZOFFSETFROM:+0200
TZOFFSETTO:+0100
TZNAME:CET
DTSTART:20231029T010000
END:STANDARD
BEGIN:DAYLIGHT
TZOFFSETFROM:+0100
TZOFFSETTO:+0200
TZNAME:CEST
DTSTART:20240331T010000
END:DAYLIGHT
BEGIN:STANDARD
TZOFFSETFROM:+0200
TZOFFSETTO:+0100
TZNAME:CET
DTSTART:20241027T010000
END:STANDARD
BEGIN:DAYLIGHT
TZOFFSETFROM:+0100
TZOFFSETTO:+0200
TZNAME:CEST
DTSTART:20250330T010000
END:DAYLIGHT
BEGIN:STANDARD
TZOFFSETFROM:+0200
TZOFFSETTO:+0100
TZNAME:CET
DTSTART:20251026T010000
END:STANDARD
BEGIN:DAYLIGHT
TZOFFSETFROM:+0100
TZOFFSETTO:+0200
TZNAME:CEST
DTSTART:20260329T010000
END:DAYLIGHT
BEGIN:STANDARD
TZOFFSETFROM:+0200
TZOFFSETTO:+0100
TZNAME:CET
DTSTART:20261025T010000
END:STANDARD
END:VTIMEZONE
BEGIN:VEVENT
DTSTART;TZID=Europe/Berlin:20250214T191500
DTEND;TZID=Europe/Berlin:20250214T201500
DTSTAMP:20260421T130521
CREATED:20220719T131707Z
LAST-MODIFIED:20250130T153157Z
UID:8300-1739560500-1739564100@mariaschutz.at
SUMMARY:Rosenkranzgebet zur Lourdesgrotte
DESCRIPTION:Wir beten in den Anliegen der Muttergottes\, insbesondere um die Einheit der Kirche\, den Frieden der Herzen und aller Völker\, und um die Freiheit der Kinder Gottes. \nWir gehen zur Lourdesgrotte und beten den Rosenkranz. \nTreffpunkt: Freitag – 19:15 Uhr in der Wallfahrtskirche
URL:https://mariaschutz.at/veranstaltungskalender/rosenkranzgebet-zur-lourdesgrotte-4/
LOCATION:Wallfahrtskirche und Passionistenkloster Maria Schutz\, Maria Schutz\, Niederösterreich\, 2641\, Österreich
CATEGORIES:Andacht,Lourdesgrotte,Maria Schutz,Wallfahrtskirche
ATTACH;FMTTYPE=image/jpeg:https://mariaschutz.at/wp-content/uploads/2021/11/Plakat-Rosenkranzgebet-Beitragsbild-jpg.jpg
ORGANIZER;CN="Wallfahrtskirche und Passionistenkloster Maria Schutz":MAILTO:sekretariat@mariaschutz.at
END:VEVENT
BEGIN:VEVENT
DTSTART;TZID=Europe/Berlin:20241220T191500
DTEND;TZID=Europe/Berlin:20241220T201500
DTSTAMP:20260421T130521
CREATED:20220720T141149Z
LAST-MODIFIED:20241130T144215Z
UID:8320-1734722100-1734725700@mariaschutz.at
SUMMARY:Rosenkranzgebet zur Lourdesgrotte\, mit Laternen und Adventliedern
DESCRIPTION:Wir beten in den Anliegen der Muttergottes\, insbesondere um die Einheit der Kirche\, den Frieden der Herzen und aller Völker\, und um die Freiheit der Kinder Gottes. \nWir gehen zur Lourdesgrotte und beten den Rosenkranz. \nTreffpunkt: Freitag – 19:15 Uhr in der Wallfahrtskirche
URL:https://mariaschutz.at/veranstaltungskalender/rosenkranzgebet-zur-lourdesgrotte-10/
LOCATION:Wallfahrtskirche und Passionistenkloster Maria Schutz\, Maria Schutz\, Niederösterreich\, 2641\, Österreich
CATEGORIES:Andacht,Maria Schutz,Wallfahrtskirche
ATTACH;FMTTYPE=image/jpeg:https://mariaschutz.at/wp-content/uploads/2021/11/Plakat-Rosenkranzgebet-Beitragsbild-jpg.jpg
ORGANIZER;CN="Wallfahrtskirche und Passionistenkloster Maria Schutz":MAILTO:sekretariat@mariaschutz.at
END:VEVENT
BEGIN:VEVENT
DTSTART;TZID=Europe/Berlin:20240913T190000
DTEND;TZID=Europe/Berlin:20240913T203000
DTSTAMP:20260421T130521
CREATED:20240502T124643Z
LAST-MODIFIED:20240820T143114Z
UID:11426-1726254000-1726259400@mariaschutz.at
SUMMARY:Fatima Feier (Livestream)
DESCRIPTION:Herzliche Einladung zu Rosenkranz und Hl. Messe am 13. Mai\, dem Erscheinungstag Unserer Lieben Frau von Fatima.\nBeginn um 19 Uhr in der Wallfahrtskirche.\nDer Gebetsabend „Veni Creator Spiritus“ entfällt an diesem Tag.
URL:https://mariaschutz.at/veranstaltungskalender/fatima-feier-2/
LOCATION:Wallfahrtskirche und Passionistenkloster Maria Schutz\, Maria Schutz\, Niederösterreich\, 2641\, Österreich
CATEGORIES:Andacht,Heilige Messe,Maria Schutz,Wallfahrtskirche
ATTACH;FMTTYPE=image/png:https://mariaschutz.at/wp-content/uploads/2024/05/Screenshot-2024-05-02-144244.png
ORGANIZER;CN="Wallfahrtskirche und Passionistenkloster Maria Schutz":MAILTO:sekretariat@mariaschutz.at
END:VEVENT
BEGIN:VEVENT
DTSTART;TZID=Europe/Berlin:20240813T190000
DTEND;TZID=Europe/Berlin:20240813T210000
DTSTAMP:20260421T130521
CREATED:20240611T141721Z
LAST-MODIFIED:20240619T084239Z
UID:11735-1723575600-1723582800@mariaschutz.at
SUMMARY:Fatimafeier
DESCRIPTION:19 Uhr Rosenkranz \n19.30 Uhr Hl. Messe mit Mag. Dr. Robert Weber\, Opus Dei \nHerzliche Einladung!
URL:https://mariaschutz.at/veranstaltungskalender/fatimafeier-18/
LOCATION:Wallfahrtskirche und Passionistenkloster Maria Schutz\, Maria Schutz\, Niederösterreich\, 2641\, Österreich
CATEGORIES:Heilige Messe,Maria Schutz,Wallfahrtskirche
ATTACH;FMTTYPE=image/jpeg:https://mariaschutz.at/wp-content/uploads/2024/06/Patrozinium-2024-aktuell-1-e1722064076241.jpg
ORGANIZER;CN="Wallfahrtskirche und Passionistenkloster Maria Schutz":MAILTO:sekretariat@mariaschutz.at
END:VEVENT
BEGIN:VEVENT
DTSTART;TZID=Europe/Berlin:20240809T191500
DTEND;TZID=Europe/Berlin:20240809T201500
DTSTAMP:20260421T130521
CREATED:20211118T150032Z
LAST-MODIFIED:20240730T031921Z
UID:7438-1723230900-1723234500@mariaschutz.at
SUMMARY:Rosenkranzgebet zur Lourdesgrotte
DESCRIPTION:Wir beten in den Anliegen der Muttergottes\, insbesondere um die Einheit der Kirche\, den Frieden der Herzen und aller Völker\, und um die Freiheit der Kinder Gottes. \nWir gehen zur Lourdesgrotte und beten den Rosenkranz. \nTreffpunkt: Freitag – 19:15 Uhr in der Wallfahrtskirche
URL:https://mariaschutz.at/veranstaltungskalender/rosenkranzgebet-zur-lourdesgrotte-6/
LOCATION:Wallfahrtskirche und Passionistenkloster Maria Schutz\, Maria Schutz\, Niederösterreich\, 2641\, Österreich
CATEGORIES:Andacht,Maria Schutz,Wallfahrtskirche
ATTACH;FMTTYPE=image/jpeg:https://mariaschutz.at/wp-content/uploads/2021/11/Plakat-Rosenkranzgebet-Beitragsbild-jpg.jpg
ORGANIZER;CN="Wallfahrtskirche und Passionistenkloster Maria Schutz":MAILTO:sekretariat@mariaschutz.at
END:VEVENT
BEGIN:VEVENT
DTSTART;TZID=Europe/Berlin:20231208T191500
DTEND;TZID=Europe/Berlin:20231208T201500
DTSTAMP:20260421T130521
CREATED:20220720T140840Z
LAST-MODIFIED:20231202T114217Z
UID:8316-1702062900-1702066500@mariaschutz.at
SUMMARY:Rosenkranzgebet zur Lourdesgrotte\, mit Laternen und Adventliedern
DESCRIPTION:Wir beten in den Anliegen der Muttergottes\, insbesondere um die Einheit der Kirche\, den Frieden der Herzen und aller Völker\, und um die Freiheit der Kinder Gottes. \nWir gehen zur Lourdesgrotte und beten den Rosenkranz. \nTreffpunkt: Freitag – 19:15 Uhr in der Wallfahrtskirche
URL:https://mariaschutz.at/veranstaltungskalender/rosenkranzgebet-zur-lourdesgrotte-8/
LOCATION:Wallfahrtskirche und Passionistenkloster Maria Schutz\, Maria Schutz\, Niederösterreich\, 2641\, Österreich
CATEGORIES:Andacht,Maria Schutz,Wallfahrtskirche
ATTACH;FMTTYPE=image/jpeg:https://mariaschutz.at/wp-content/uploads/2021/11/Plakat-Rosenkranzgebet-Beitragsbild-jpg.jpg
ORGANIZER;CN="Wallfahrtskirche und Passionistenkloster Maria Schutz":MAILTO:sekretariat@mariaschutz.at
END:VEVENT
BEGIN:VEVENT
DTSTART;TZID=Europe/Berlin:20230901T191500
DTEND;TZID=Europe/Berlin:20230901T201500
DTSTAMP:20260421T130521
CREATED:20211118T144849Z
LAST-MODIFIED:20230722T144903Z
UID:7422-1693595700-1693599300@mariaschutz.at
SUMMARY:Rosenkranzgebet zur Lourdesgrotte
DESCRIPTION:Wir beten in den Anliegen der Muttergottes\, insbesondere um die Einheit der Kirche\, den Frieden der Herzen und aller Völker\, und um die Freiheit der Kinder Gottes. \nWir gehen zur Lourdesgrotte und beten den Rosenkranz. \nTreffpunkt: Freitag – 19:15 Uhr in der Wallfahrtskirche
URL:https://mariaschutz.at/veranstaltungskalender/rosenkranzgebet-zur-lourdesgrotte/
LOCATION:Wallfahrtskirche und Passionistenkloster Maria Schutz\, Maria Schutz\, Niederösterreich\, 2641\, Österreich
CATEGORIES:Andacht,Maria Schutz,Wallfahrtskirche
ATTACH;FMTTYPE=image/jpeg:https://mariaschutz.at/wp-content/uploads/2021/11/Plakat-Rosenkranzgebet-Beitragsbild-jpg.jpg
ORGANIZER;CN="Wallfahrtskirche und Passionistenkloster Maria Schutz":MAILTO:sekretariat@mariaschutz.at
END:VEVENT
BEGIN:VEVENT
DTSTART;TZID=Europe/Berlin:20230713T190000
DTEND;TZID=Europe/Berlin:20230713T203000
DTSTAMP:20260421T130521
CREATED:20230602T145212Z
LAST-MODIFIED:20230602T145212Z
UID:9836-1689274800-1689280200@mariaschutz.at
SUMMARY:Fatima-Feier an der Lourdesgrotte
DESCRIPTION:Herzliche Einladung zur Fatima-Feier an der Lourdesgrotte!\nDonnerstag\, 13. Juli 2023\n19 Uhr Rosenkranz\n19.30 Uhr Hl. Messe\nMusikalische Gestaltung von den Bläsern Schottwien
URL:https://mariaschutz.at/veranstaltungskalender/fatima-feier-an-der-lourdesgrotte/
LOCATION:Lourdesgrotte in Maria Schutz\, Maria Schutz\, Niederösterreich\, 2641\, Österreich
CATEGORIES:Andacht,Heilige Messe,Maria Schutz,Wallfahrtskirche
ORGANIZER;CN="Wallfahrtskirche und Passionistenkloster Maria Schutz":MAILTO:sekretariat@mariaschutz.at
END:VEVENT
BEGIN:VEVENT
DTSTART;TZID=Europe/Berlin:20220722T191500
DTEND;TZID=Europe/Berlin:20220722T201500
DTSTAMP:20260421T130521
CREATED:20211118T145329Z
LAST-MODIFIED:20220706T190403Z
UID:7429-1658517300-1658520900@mariaschutz.at
SUMMARY:Rosenkranzgebet zur Lourdesgrotte
DESCRIPTION:Wir beten in den Anliegen der Muttergottes\, insbesondere um die Einheit der Kirche\, den Frieden der Herzen und aller Völker\, und um die Freiheit der Kinder Gottes. \nWir gehen zur Lourdesgrotte und beten den Rosenkranz. \nTreffpunkt: Freitag – 19:15 Uhr in der Wallfahrtskirche
URL:https://mariaschutz.at/veranstaltungskalender/rosenkranzgebet-zur-lourdesgrotte-2/
LOCATION:Wallfahrtskirche und Passionistenkloster Maria Schutz\, Maria Schutz\, Niederösterreich\, 2641\, Österreich
CATEGORIES:Andacht,Maria Schutz,Wallfahrtskirche
ATTACH;FMTTYPE=image/jpeg:https://mariaschutz.at/wp-content/uploads/2021/11/Plakat-Rosenkranzgebet-Beitragsbild-jpg.jpg
ORGANIZER;CN="Wallfahrtskirche und Passionistenkloster Maria Schutz":MAILTO:sekretariat@mariaschutz.at
END:VEVENT
BEGIN:VEVENT
DTSTART;TZID=Europe/Berlin:20220715T191500
DTEND;TZID=Europe/Berlin:20220715T201500
DTSTAMP:20260421T130521
CREATED:20211118T145515Z
LAST-MODIFIED:20220706T190342Z
UID:7431-1657912500-1657916100@mariaschutz.at
SUMMARY:Rosenkranzgebet zur Lourdesgrotte
DESCRIPTION:Wir beten in den Anliegen der Muttergottes\, insbesondere um die Einheit der Kirche\, den Frieden der Herzen und aller Völker\, und um die Freiheit der Kinder Gottes. \nWir gehen zur Lourdesgrotte und beten den Rosenkranz. \nTreffpunkt: Freitag – 19:15 Uhr in der Wallfahrtskirche
URL:https://mariaschutz.at/veranstaltungskalender/rosenkranzgebet-zur-lourdesgrotte-3/
LOCATION:Wallfahrtskirche und Passionistenkloster Maria Schutz\, Maria Schutz\, Niederösterreich\, 2641\, Österreich
CATEGORIES:Andacht,Maria Schutz,Wallfahrtskirche
ATTACH;FMTTYPE=image/jpeg:https://mariaschutz.at/wp-content/uploads/2021/11/Plakat-Rosenkranzgebet-Beitragsbild-jpg.jpg
ORGANIZER;CN="Wallfahrtskirche und Passionistenkloster Maria Schutz":MAILTO:sekretariat@mariaschutz.at
END:VEVENT
BEGIN:VEVENT
DTSTART;TZID=Europe/Berlin:20220408T191500
DTEND;TZID=Europe/Berlin:20220408T201500
DTSTAMP:20260421T130521
CREATED:20211118T144709Z
LAST-MODIFIED:20220302T133222Z
UID:7418-1649445300-1649448900@mariaschutz.at
SUMMARY:Rosenkranzgebet zur Lourdesgrotte
DESCRIPTION:Wir beten in den Anliegen der Muttergottes\, insbesondere um die Einheit der Kirche\, den Frieden der Herzen und aller Völker\, und um die Freiheit der Kinder Gottes. \nWir gehen zur Lourdesgrotte und beten den Rosenkranz. \nTreffpunkt: Freitag – 19:15 Uhr in der Wallfahrtskirche
URL:https://mariaschutz.at/veranstaltungskalender/rosenkranz-zur-lourdesgrotte/
LOCATION:Wallfahrtskirche und Passionistenkloster Maria Schutz\, Maria Schutz\, Niederösterreich\, 2641\, Österreich
CATEGORIES:Andacht,Maria Schutz,Wallfahrtskirche
ATTACH;FMTTYPE=image/jpeg:https://mariaschutz.at/wp-content/uploads/2021/11/Plakat-Rosenkranzgebet-Beitragsbild-jpg.jpg
ORGANIZER;CN="Wallfahrtskirche und Passionistenkloster Maria Schutz":MAILTO:sekretariat@mariaschutz.at
END:VEVENT
END:VCALENDAR