BEGIN:VCALENDAR
VERSION:2.0
PRODID:-//Maria Schutz - ECPv6.15.20//NONSGML v1.0//EN
CALSCALE:GREGORIAN
METHOD:PUBLISH
X-ORIGINAL-URL:https://mariaschutz.at
X-WR-CALDESC:Veranstaltungen für Maria Schutz
REFRESH-INTERVAL;VALUE=DURATION:PT1H
X-Robots-Tag:noindex
X-PUBLISHED-TTL:PT1H
BEGIN:VTIMEZONE
TZID:Europe/Berlin
BEGIN:DAYLIGHT
TZOFFSETFROM:+0100
TZOFFSETTO:+0200
TZNAME:CEST
DTSTART:20230326T010000
END:DAYLIGHT
BEGIN:STANDARD
TZOFFSETFROM:+0200
TZOFFSETTO:+0100
TZNAME:CET
DTSTART:20231029T010000
END:STANDARD
BEGIN:DAYLIGHT
TZOFFSETFROM:+0100
TZOFFSETTO:+0200
TZNAME:CEST
DTSTART:20240331T010000
END:DAYLIGHT
BEGIN:STANDARD
TZOFFSETFROM:+0200
TZOFFSETTO:+0100
TZNAME:CET
DTSTART:20241027T010000
END:STANDARD
BEGIN:DAYLIGHT
TZOFFSETFROM:+0100
TZOFFSETTO:+0200
TZNAME:CEST
DTSTART:20250330T010000
END:DAYLIGHT
BEGIN:STANDARD
TZOFFSETFROM:+0200
TZOFFSETTO:+0100
TZNAME:CET
DTSTART:20251026T010000
END:STANDARD
END:VTIMEZONE
BEGIN:VEVENT
DTSTART;TZID=Europe/Berlin:20241005T090000
DTEND;TZID=Europe/Berlin:20241005T103000
DTSTAMP:20260421T152715
CREATED:20220521T120843Z
LAST-MODIFIED:20240928T144121Z
UID:8064-1728118800-1728124200@mariaschutz.at
SUMMARY:Herz-Mariä-Sühnesamstag
DESCRIPTION:Wir laden Sie ein\, nach Maria Schutz zu kommen und mit uns die Herz-Maria-Sühnesamstage zu begehen: \n9.00 Rosenkranz\, 9.30 Hl. Messe\, Betrachtung \nDie Andacht der fünf Sühnesamstage beinhaltet: \n\nBeichte\, die auch an den Tagen vorher/nachher abgelegt werden kann\nHl. Kommunion\, gewöhnlich beim Besuch einer Hl. Messe oder außerhalb\nRosenkranzgebet\, allein oder in Gemeinschaft\, daheim oder in der Kirche beten\n15 Minuten Betrachtung über die Geheimnisse des Rosenkranzes\nalles in der Absicht\, Sühne zu leisten für die Sünden\, die gegen das Unbefleckte Herz Mariens begangen werden.\n\nVerheißungen: \n\nFrieden in der Welt.\nFrieden und Eintracht in den Familien.\nDie Bekehrung der Sünder.\nDer Triumph des Unbefleckten Herzens Mariens.\nDie Rückkehr aller Verirrten in die wahre Kirche.\nDie Einheit im Glauben: ein Hirt\, eine Herde\, eine katholische Lehre auf der ganzen Welt.\nDie Sicherung des eigenen Heils (und die Rettung all jener – so darf man vertrauen -\,für die diese fünf Herz-Marien-Samstage gehalten worden sind).\n\n„Jesus will die Verehrung meines unbefleckten Herzens in der Welt begründen; wer sie übt\, dem verspreche ich das Heil; diese Seelen werden von Gott bevorzugt werden\, und wie Blumen werden sie von mir vor seinen Thron gebracht.”
URL:https://mariaschutz.at/veranstaltungskalender/herz-mariae-suehnesamstag-3/
LOCATION:Wallfahrtskirche und Passionistenkloster Maria Schutz\, Maria Schutz\, Niederösterreich\, 2641\, Österreich
CATEGORIES:Andacht,Heilige Messe,Maria Schutz,Wallfahrtskirche
ATTACH;FMTTYPE=image/jpeg:https://mariaschutz.at/wp-content/uploads/2018/08/Anbetung-Fatimakapelle-e1540307795486-1024x496-1.jpeg
ORGANIZER;CN="Wallfahrtskirche und Passionistenkloster Maria Schutz":MAILTO:sekretariat@mariaschutz.at
END:VEVENT
BEGIN:VEVENT
DTSTART;TZID=Europe/Berlin:20241006T093000
DTEND;TZID=Europe/Berlin:20241006T103000
DTSTAMP:20260421T152715
CREATED:20200929T092738Z
LAST-MODIFIED:20240928T144851Z
UID:5643-1728207000-1728210600@mariaschutz.at
SUMMARY:Erntedank
DESCRIPTION:
URL:https://mariaschutz.at/veranstaltungskalender/erntedank/
LOCATION:Wallfahrtskirche und Passionistenkloster Maria Schutz\, Maria Schutz\, Niederösterreich\, 2641\, Österreich
CATEGORIES:Heilige Messe,Maria Schutz,Wallfahrtskirche
ATTACH;FMTTYPE=image/webp:https://mariaschutz.at/wp-content/uploads/2020/09/IMG_20211003_165222_664.webp
ORGANIZER;CN="Wallfahrtskirche und Passionistenkloster Maria Schutz":MAILTO:sekretariat@mariaschutz.at
END:VEVENT
BEGIN:VEVENT
DTSTART;TZID=Europe/Berlin:20241007T173000
DTEND;TZID=Europe/Berlin:20241007T200000
DTSTAMP:20260421T152715
CREATED:20240924T141631Z
LAST-MODIFIED:20240924T141654Z
UID:12203-1728322200-1728331200@mariaschutz.at
SUMMARY:Berufungsgebet
DESCRIPTION:Neupriester Florian Damberger\, tätig als Kaplan in Wien\, kommt zur Nachprimiz nach Maria Schutz und wird im Rahmen des montalichen Berufungsgebetes Zeugnis von seinem Berufungsweg geben. Wir freuen uns schon sehr auf diese Glaubensstärkung und das gemeinsame Gebet um viele weitere Berufungen. \n17.30 Uhr Vesper\, Zeugnis\, gestaltete Anbetung\n18.45 Uhr Hl. Messe mit Primizsegen
URL:https://mariaschutz.at/veranstaltungskalender/montag-7-okt-berufunsgzeugnis-und-nachprimiz/
LOCATION:Wallfahrtskirche und Passionistenkloster Maria Schutz\, Maria Schutz\, Niederösterreich\, 2641\, Österreich
CATEGORIES:Heilige Messe,Lobpreis,Maria Schutz,Wallfahrtskirche
ATTACH;FMTTYPE=image/jpeg:https://mariaschutz.at/wp-content/uploads/2024/09/Maria-Schutz_Oktober2024.jpg
ORGANIZER;CN="Wallfahrtskirche und Passionistenkloster Maria Schutz":MAILTO:sekretariat@mariaschutz.at
END:VEVENT
BEGIN:VEVENT
DTSTART;TZID=Europe/Berlin:20241010T180000
DTEND;TZID=Europe/Berlin:20241013T140000
DTSTAMP:20260421T152715
CREATED:20231114T154150Z
LAST-MODIFIED:20240703T142618Z
UID:10581-1728583200-1728828000@mariaschutz.at
SUMMARY:Exerzitien
DESCRIPTION:Exerzitien mit Patres vom Kreuzorden\nBeginn: Donnerstag\, 18 Uhr; Ende: Sonntag\, 14.30 Uhr\nAnmeldung bis 3.10.24 im Sekretariat Maria Schutz\, Tel: +43 2663 8208\,\nE-Mail: sekretariat@mariaschutz.at
URL:https://mariaschutz.at/veranstaltungskalender/exerzitien-4/
LOCATION:Wallfahrtskirche und Passionistenkloster Maria Schutz\, Maria Schutz\, Niederösterreich\, 2641\, Österreich
CATEGORIES:Exerzitien/Einkehrtage,Maria Schutz
ORGANIZER;CN="Wallfahrtskirche und Passionistenkloster Maria Schutz":MAILTO:sekretariat@mariaschutz.at
END:VEVENT
BEGIN:VEVENT
DTSTART;TZID=Europe/Berlin:20241012T190000
DTEND;TZID=Europe/Berlin:20241012T203000
DTSTAMP:20260421T152715
CREATED:20230712T092603Z
LAST-MODIFIED:20240928T144428Z
UID:9992-1728759600-1728765000@mariaschutz.at
SUMMARY:Fatima-Feier
DESCRIPTION:
URL:https://mariaschutz.at/veranstaltungskalender/fatima-feier/
LOCATION:Lourdesgrotte in Maria Schutz\, Maria Schutz\, Niederösterreich\, 2641\, Österreich
CATEGORIES:Andacht,Heilige Messe,Maria Schutz,Wallfahrtskirche
ORGANIZER;CN="Wallfahrtskirche und Passionistenkloster Maria Schutz":MAILTO:sekretariat@mariaschutz.at
END:VEVENT
BEGIN:VEVENT
DTSTART;TZID=Europe/Berlin:20241018T174500
DTEND;TZID=Europe/Berlin:20241018T183000
DTSTAMP:20260421T152715
CREATED:20221011T144751Z
LAST-MODIFIED:20240928T145335Z
UID:8735-1729273500-1729276200@mariaschutz.at
SUMMARY:Vesper zum Hochfest des Hl. Paul vom Kreuz
DESCRIPTION:Am Vorabend zum Hochfest des hl. Paul vom Kreuz beten wir um 18 Uhr eine feierliche Vesper in der Wallfahrtskirche.
URL:https://mariaschutz.at/veranstaltungskalender/vesper-zum-hochfest-des-hl-paul-vom-kreuz/
LOCATION:Wallfahrtskirche und Passionistenkloster Maria Schutz\, Maria Schutz\, Niederösterreich\, 2641\, Österreich
CATEGORIES:Andacht,Maria Schutz,Wallfahrtskirche
ATTACH;FMTTYPE=image/jpeg:https://mariaschutz.at/wp-content/uploads/2017/03/PaulKreuz_a3-23.jpg
ORGANIZER;CN="Wallfahrtskirche und Passionistenkloster Maria Schutz":MAILTO:sekretariat@mariaschutz.at
END:VEVENT
BEGIN:VEVENT
DTSTART;TZID=Europe/Berlin:20241019T090000
DTEND;TZID=Europe/Berlin:20241019T103000
DTSTAMP:20260421T152715
CREATED:20221011T143033Z
LAST-MODIFIED:20240928T145220Z
UID:8731-1729328400-1729333800@mariaschutz.at
SUMMARY:Hochfest Hl. Paul vom Kreuz\, Gründer der Passionisten
DESCRIPTION:Am Mittwoch den 19. Oktober feiern wir das Hochfest unseres Ordensgründers des hl. Paul vom Kreuz. Herzliche Einladung zum Festgottesdienst um 9.30 Uhr.
URL:https://mariaschutz.at/veranstaltungskalender/hochfest-hl-paul-vom-kreuz-2/
LOCATION:Wallfahrtskirche und Passionistenkloster Maria Schutz\, Maria Schutz\, Niederösterreich\, 2641\, Österreich
CATEGORIES:Heilige Messe,Maria Schutz,Wallfahrtskirche
ATTACH;FMTTYPE=image/jpeg:https://mariaschutz.at/wp-content/uploads/2017/03/PaulKreuz_a3-23.jpg
ORGANIZER;CN="Wallfahrtskirche und Passionistenkloster Maria Schutz":MAILTO:sekretariat@mariaschutz.at
END:VEVENT
BEGIN:VEVENT
DTSTART;TZID=Europe/Berlin:20241019T143000
DTEND;TZID=Europe/Berlin:20241019T163000
DTSTAMP:20260421T152715
CREATED:20241012T094149Z
LAST-MODIFIED:20241012T094149Z
UID:12274-1729348200-1729355400@mariaschutz.at
SUMMARY:Hl. Messe mit Krankensegnung
DESCRIPTION:
URL:https://mariaschutz.at/veranstaltungskalender/hl-messe-mit-krankensegnung/
LOCATION:Marienhof Maria Schutz
CATEGORIES:Heilige Messe,Maria Schutz,Marienhof
ATTACH;FMTTYPE=image/jpeg:https://mariaschutz.at/wp-content/uploads/2024/10/Krankenmesse.jpeg
END:VEVENT
BEGIN:VEVENT
DTSTART;TZID=Europe/Berlin:20241020T130000
DTEND;TZID=Europe/Berlin:20241020T183000
DTSTAMP:20260421T152715
CREATED:20240423T150754Z
LAST-MODIFIED:20240423T150754Z
UID:11381-1729429200-1729449000@mariaschutz.at
SUMMARY:Bittwallfahrt um geistliche Berufungen
DESCRIPTION:Herzliche Einladung um viele geistliche Berufungen zu beten!\nFreude\, Gemeinschaft\, Gebet – sei bei der Bittwallfahrt dabei! \nSonntag\, 20. Oktober\, 13 Uhr in Gloggnitz\nFestmesse um 17 Uhr mit Subregens Markus Muth vom Priesterseminar Wien. \n 
URL:https://mariaschutz.at/veranstaltungskalender/bittwallfahrt-um-geistliche-berufungen-3/
LOCATION:Maria Schutz\, Maria Schutz\, Maria Schutz\, 2641\, Österreich
CATEGORIES:Andacht,Heilige Messe,Maria Schutz,Wallfahrtskirche
ATTACH;FMTTYPE=image/jpeg:https://mariaschutz.at/wp-content/uploads/2024/04/Bittwallfahrt_Plakat_2024.jpg
ORGANIZER;CN="Berufungspastoral EDW":MAILTO:c.schipp@edw.or.at
END:VEVENT
BEGIN:VEVENT
DTSTART;TZID=Europe/Berlin:20241022T190000
DTEND;TZID=Europe/Berlin:20241022T203000
DTSTAMP:20260421T152715
CREATED:20240202T144802Z
LAST-MODIFIED:20240928T143919Z
UID:10981-1729623600-1729629000@mariaschutz.at
SUMMARY:Passionsbruderschaft Monatstreffen
DESCRIPTION:
URL:https://mariaschutz.at/veranstaltungskalender/passionsbruderschaft/
LOCATION:Wallfahrtskirche und Passionistenkloster Maria Schutz\, Maria Schutz\, Niederösterreich\, 2641\, Österreich
CATEGORIES:Exerzitien/Einkehrtage,Kloster Maria Schutz,Maria Schutz,Passionisten
ATTACH;FMTTYPE=image/jpeg:https://mariaschutz.at/wp-content/uploads/2024/01/Poster-PASSIONSBRUDERSCHAFT-INFOABEND.jpg
ORGANIZER;CN="Wallfahrtskirche und Passionistenkloster Maria Schutz":MAILTO:sekretariat@mariaschutz.at
END:VEVENT
BEGIN:VEVENT
DTSTART;TZID=Europe/Berlin:20241025T153000
DTEND;TZID=Europe/Berlin:20241027T170000
DTSTAMP:20260421T152715
CREATED:20240423T151541Z
LAST-MODIFIED:20240423T151801Z
UID:11384-1729870200-1730048400@mariaschutz.at
SUMMARY:Berufunsgwochenende
DESCRIPTION:Hast du dich schonmal nach deiner Berufung gefragt?\nKönnte es sein\, dass du zum Priester berufen bist? Oder du zur Ordensschwester?\nFür jeden hat Gott einen wunderbaren Plan! Mach dich auf die Suche! \nAlle jungen Männer und Frauen zwischen (ca.) 18 und 30 Jahre laden wir ein\, sich in Gebet\, Vorträgen\, Gesprächen und Stille nach der Berufung zu fragen und dem Plan Gottes auf die Spur zu kommen. \nLeitung: Kaplan Anselm Becker und Sr. M. Pauline Jacobi\nUnterkunft im Marienhof\nAnmeldung bei Sr. Pauline: sr.pauline@mariaschutz.at\, 0676 651 25 52 \n  \n 
URL:https://mariaschutz.at/veranstaltungskalender/berufunsgwochenende/
LOCATION:Maria Schutz\, Maria Schutz\, Maria Schutz\, 2641\, Österreich
CATEGORIES:Andacht,Exerzitien/Einkehrtage,Heilige Messe,Lobpreis,Maria Schutz,Marienhof,Wallfahrtskirche
ATTACH;FMTTYPE=image/jpeg:https://mariaschutz.at/wp-content/uploads/2024/04/Berufungswochenende-Okt-2024.jpg
ORGANIZER;CN="Wallfahrtskirche und Passionistenkloster Maria Schutz":MAILTO:sekretariat@mariaschutz.at
END:VEVENT
END:VCALENDAR