BEGIN:VCALENDAR
VERSION:2.0
PRODID:-//Maria Schutz - ECPv6.15.20//NONSGML v1.0//EN
CALSCALE:GREGORIAN
METHOD:PUBLISH
X-WR-CALNAME:Maria Schutz
X-ORIGINAL-URL:https://mariaschutz.at
X-WR-CALDESC:Veranstaltungen für Maria Schutz
REFRESH-INTERVAL;VALUE=DURATION:PT1H
X-Robots-Tag:noindex
X-PUBLISHED-TTL:PT1H
BEGIN:VTIMEZONE
TZID:Europe/Berlin
BEGIN:DAYLIGHT
TZOFFSETFROM:+0100
TZOFFSETTO:+0200
TZNAME:CEST
DTSTART:20230326T010000
END:DAYLIGHT
BEGIN:STANDARD
TZOFFSETFROM:+0200
TZOFFSETTO:+0100
TZNAME:CET
DTSTART:20231029T010000
END:STANDARD
BEGIN:DAYLIGHT
TZOFFSETFROM:+0100
TZOFFSETTO:+0200
TZNAME:CEST
DTSTART:20240331T010000
END:DAYLIGHT
BEGIN:STANDARD
TZOFFSETFROM:+0200
TZOFFSETTO:+0100
TZNAME:CET
DTSTART:20241027T010000
END:STANDARD
BEGIN:DAYLIGHT
TZOFFSETFROM:+0100
TZOFFSETTO:+0200
TZNAME:CEST
DTSTART:20250330T010000
END:DAYLIGHT
BEGIN:STANDARD
TZOFFSETFROM:+0200
TZOFFSETTO:+0100
TZNAME:CET
DTSTART:20251026T010000
END:STANDARD
END:VTIMEZONE
BEGIN:VEVENT
DTSTART;TZID=Europe/Berlin:20240904T090000
DTEND;TZID=Europe/Berlin:20240907T130000
DTSTAMP:20260421T152759
CREATED:20231114T153504Z
LAST-MODIFIED:20231114T153504Z
UID:10579-1725440400-1725714000@mariaschutz.at
SUMMARY:Exerzitien
DESCRIPTION:Exerzitien mit Pfarrer Frank Cöppicus-Röttger\nThema: „Wenn ihr in meinem Wort bleibt\, so seid ihr wahrhaftig\nmeine Jünger\, und ihr werdet die Wahrheit erkennen\, und die\nWahrheit wird euch frei machen! (Joh 8\,31f)“\nBeginn: Mittwoch\, 9 Uhr; Ende: Samstag\, 13 Uhr\nAnmeldung: Stefan Obergottsberger\, Tel: +43 677 624 748 38\,\nE-Mail: evangelisierung@outlook.com
URL:https://mariaschutz.at/veranstaltungskalender/exerzitien-3/
LOCATION:Wallfahrtskirche und Passionistenkloster Maria Schutz\, Maria Schutz\, Niederösterreich\, 2641\, Österreich
CATEGORIES:Exerzitien/Einkehrtage,Maria Schutz
ORGANIZER;CN="Wallfahrtskirche und Passionistenkloster Maria Schutz":MAILTO:sekretariat@mariaschutz.at
END:VEVENT
BEGIN:VEVENT
DTSTART;TZID=Europe/Berlin:20240907T090000
DTEND;TZID=Europe/Berlin:20240907T103000
DTSTAMP:20260421T152759
CREATED:20220629T133650Z
LAST-MODIFIED:20240820T143835Z
UID:8182-1725699600-1725705000@mariaschutz.at
SUMMARY:Herz-Mariä-Sühnesamstag
DESCRIPTION:Wir laden Sie ein\, nach Maria Schutz zu kommen und mit uns die Herz-Maria-Sühnesamstage zu begehen: \n9.00 Rosenkranz\, 9.30 Hl. Messe\, Betrachtung \nDie Andacht der fünf Sühnesamstage beinhaltet: \n\nBeichte\, die auch an den Tagen vorher/nachher abgelegt werden kann\nHl. Kommunion\, gewöhnlich beim Besuch einer Hl. Messe oder außerhalb\nRosenkranzgebet\, allein oder in Gemeinschaft\, daheim oder in der Kirche beten\n15 Minuten Betrachtung über die Geheimnisse des Rosenkranzes\nalles in der Absicht\, Sühne zu leisten für die Sünden\, die gegen das Unbefleckte Herz Mariens begangen werden.\n\nVerheißungen: \n\nFrieden in der Welt.\nFrieden und Eintracht in den Familien.\nDie Bekehrung der Sünder.\nDer Triumph des Unbefleckten Herzens Mariens.\nDie Rückkehr aller Verirrten in die wahre Kirche.\nDie Einheit im Glauben: ein Hirt\, eine Herde\, eine katholische Lehre auf der ganzen Welt.\nDie Sicherung des eigenen Heils (und die Rettung all jener – so darf man vertrauen -\,für die diese fünf Herz-Marien-Samstage gehalten worden sind).\n\n„Jesus will die Verehrung meines unbefleckten Herzens in der Welt begründen; wer sie übt\, dem verspreche ich das Heil; diese Seelen werden von Gott bevorzugt werden\, und wie Blumen werden sie von mir vor seinen Thron gebracht.”
URL:https://mariaschutz.at/veranstaltungskalender/herz-mariae-suehnesamstag-4/
LOCATION:Wallfahrtskirche und Passionistenkloster Maria Schutz\, Maria Schutz\, Niederösterreich\, 2641\, Österreich
CATEGORIES:Andacht,Heilige Messe,Maria Schutz,Wallfahrtskirche
ATTACH;FMTTYPE=image/jpeg:https://mariaschutz.at/wp-content/uploads/2018/08/Anbetung-Fatimakapelle-e1540307795486-1024x496-1.jpeg
ORGANIZER;CN="Wallfahrtskirche und Passionistenkloster Maria Schutz":MAILTO:sekretariat@mariaschutz.at
END:VEVENT
BEGIN:VEVENT
DTSTART;TZID=Europe/Berlin:20240907T193000
DTEND;TZID=Europe/Berlin:20240907T203000
DTSTAMP:20260421T152759
CREATED:20220628T121557Z
LAST-MODIFIED:20240820T144423Z
UID:8179-1725737400-1725741000@mariaschutz.at
SUMMARY:Lichterprozession zur Lourdesgrotte
DESCRIPTION:Herzliche Einladung zur Lichterprozession am Vorabend von Maria Geburt.\n7. Sept. 2024\, 19.30 Uhr\nTreffpunkt: Wallfahrtskirche
URL:https://mariaschutz.at/veranstaltungskalender/lichterprozession-11/
LOCATION:Wallfahrtskirche und Passionistenkloster Maria Schutz\, Maria Schutz\, Niederösterreich\, 2641\, Österreich
CATEGORIES:Andacht,Lourdesgrotte,Maria Schutz,Wallfahrtskirche
ATTACH;FMTTYPE=image/jpeg:https://mariaschutz.at/wp-content/uploads/2022/06/Lichterprozession-14.8-7.9.2022.jpg
ORGANIZER;CN="Wallfahrtskirche und Passionistenkloster Maria Schutz":MAILTO:sekretariat@mariaschutz.at
END:VEVENT
BEGIN:VEVENT
DTSTART;TZID=Europe/Berlin:20240913T190000
DTEND;TZID=Europe/Berlin:20240913T203000
DTSTAMP:20260421T152759
CREATED:20240502T124643Z
LAST-MODIFIED:20240820T143114Z
UID:11426-1726254000-1726259400@mariaschutz.at
SUMMARY:Fatima Feier (Livestream)
DESCRIPTION:Herzliche Einladung zu Rosenkranz und Hl. Messe am 13. Mai\, dem Erscheinungstag Unserer Lieben Frau von Fatima.\nBeginn um 19 Uhr in der Wallfahrtskirche.\nDer Gebetsabend „Veni Creator Spiritus“ entfällt an diesem Tag.
URL:https://mariaschutz.at/veranstaltungskalender/fatima-feier-2/
LOCATION:Wallfahrtskirche und Passionistenkloster Maria Schutz\, Maria Schutz\, Niederösterreich\, 2641\, Österreich
CATEGORIES:Andacht,Heilige Messe,Maria Schutz,Wallfahrtskirche
ATTACH;FMTTYPE=image/png:https://mariaschutz.at/wp-content/uploads/2024/05/Screenshot-2024-05-02-144244.png
ORGANIZER;CN="Wallfahrtskirche und Passionistenkloster Maria Schutz":MAILTO:sekretariat@mariaschutz.at
END:VEVENT
BEGIN:VEVENT
DTSTART;TZID=Europe/Berlin:20240930T173000
DTEND;TZID=Europe/Berlin:20240930T200000
DTSTAMP:20260421T152759
CREATED:20220721T071657Z
LAST-MODIFIED:20240930T094505Z
UID:8329-1727717400-1727726400@mariaschutz.at
SUMMARY:Veni Creator Spiritus Gebetsabend - entfällt!
DESCRIPTION:18 Uhr Vesper\n18.30 Uhr Hl. Messe\nEucharistische Anbetung bis 21 Uhr\n(K-TV-Übertragung)
URL:https://mariaschutz.at/veranstaltungskalender/suehneabend-k-tv-5/
LOCATION:Wallfahrtskirche und Passionistenkloster Maria Schutz\, Maria Schutz\, Niederösterreich\, 2641\, Österreich
CATEGORIES:Andacht,Heilige Messe,Maria Schutz,Wallfahrtskirche
ATTACH;FMTTYPE=image/jpeg:https://mariaschutz.at/wp-content/uploads/2021/06/Suehneabend.jpg
ORGANIZER;CN="Wallfahrtskirche und Passionistenkloster Maria Schutz":MAILTO:sekretariat@mariaschutz.at
END:VEVENT
END:VCALENDAR