BEGIN:VCALENDAR
VERSION:2.0
PRODID:-//Maria Schutz - ECPv6.15.20//NONSGML v1.0//EN
CALSCALE:GREGORIAN
METHOD:PUBLISH
X-ORIGINAL-URL:https://mariaschutz.at
X-WR-CALDESC:Veranstaltungen für Maria Schutz
REFRESH-INTERVAL;VALUE=DURATION:PT1H
X-Robots-Tag:noindex
X-PUBLISHED-TTL:PT1H
BEGIN:VTIMEZONE
TZID:UTC
BEGIN:STANDARD
TZOFFSETFROM:+0000
TZOFFSETTO:+0000
TZNAME:UTC
DTSTART:20210101T000000
END:STANDARD
END:VTIMEZONE
BEGIN:VEVENT
DTSTART;TZID=UTC:20220508T130000
DTEND;TZID=UTC:20220508T183000
DTSTAMP:20260422T120155
CREATED:20220427T180317Z
LAST-MODIFIED:20220427T180317Z
UID:7962-1652014800-1652034600@mariaschutz.at
SUMMARY:Bittwallfahrt um geistliche Berufungen
DESCRIPTION:Anlässlich des Weltgebetstages um geistliche Berufungen laden wir Sie herzlich ein zu unserer Bittwallfahrt. \nWir starten um 13 Uhr in Gloggnitz\, gehen dann betend 10 km bis nach Maria Schutz und feiern dort um 17 Uhr die Hl. Messe.
URL:https://mariaschutz.at/veranstaltungskalender/bittwallfahrt-um-geistliche-berufungen/
LOCATION:Wallfahrtskirche und Passionistenkloster Maria Schutz\, Maria Schutz\, Niederösterreich\, 2641\, Österreich
CATEGORIES:Andacht,Heilige Messe,Maria Schutz,Wallfahrtskirche
ATTACH;FMTTYPE=image/png:https://mariaschutz.at/wp-content/uploads/2022/04/Wallfahrt-Weltgebetstag.png
ORGANIZER;CN="Wallfahrtskirche und Passionistenkloster Maria Schutz":MAILTO:sekretariat@mariaschutz.at
END:VEVENT
END:VCALENDAR